BEGIN:VCALENDAR
VERSION:2.0
PRODID:-//CSU Moosburg - ECPv6.15.20//NONSGML v1.0//EN
CALSCALE:GREGORIAN
METHOD:PUBLISH
X-WR-CALNAME:CSU Moosburg
X-ORIGINAL-URL:https://csu-moosburg.de
X-WR-CALDESC:Veranstaltungen für CSU Moosburg
REFRESH-INTERVAL;VALUE=DURATION:PT1H
X-Robots-Tag:noindex
X-PUBLISHED-TTL:PT1H
BEGIN:VTIMEZONE
TZID:Europe/Berlin
BEGIN:DAYLIGHT
TZOFFSETFROM:+0100
TZOFFSETTO:+0200
TZNAME:CEST
DTSTART:20230326T010000
END:DAYLIGHT
BEGIN:STANDARD
TZOFFSETFROM:+0200
TZOFFSETTO:+0100
TZNAME:CET
DTSTART:20231029T010000
END:STANDARD
BEGIN:DAYLIGHT
TZOFFSETFROM:+0100
TZOFFSETTO:+0200
TZNAME:CEST
DTSTART:20240331T010000
END:DAYLIGHT
BEGIN:STANDARD
TZOFFSETFROM:+0200
TZOFFSETTO:+0100
TZNAME:CET
DTSTART:20241027T010000
END:STANDARD
BEGIN:DAYLIGHT
TZOFFSETFROM:+0100
TZOFFSETTO:+0200
TZNAME:CEST
DTSTART:20250330T010000
END:DAYLIGHT
BEGIN:STANDARD
TZOFFSETFROM:+0200
TZOFFSETTO:+0100
TZNAME:CET
DTSTART:20251026T010000
END:STANDARD
END:VTIMEZONE
BEGIN:VEVENT
DTSTART;TZID=Europe/Berlin:20240208T080000
DTEND;TZID=Europe/Berlin:20240210T170000
DTSTAMP:20260424T204224
CREATED:20231211T073232Z
LAST-MODIFIED:20231211T073232Z
UID:2230-1707379200-1707584400@csu-moosburg.de
SUMMARY:Damisch Moosburg
DESCRIPTION:
URL:https://csu-moosburg.de/kalender/damisch-moosburg/
END:VEVENT
BEGIN:VEVENT
DTSTART;TZID=Europe/Berlin:20240213T080000
DTEND;TZID=Europe/Berlin:20240213T170000
DTSTAMP:20260424T204224
CREATED:20231211T073333Z
LAST-MODIFIED:20231211T073333Z
UID:2232-1707811200-1707843600@csu-moosburg.de
SUMMARY:Kehraus Narhalla
DESCRIPTION:
URL:https://csu-moosburg.de/kalender/kehraus-narhalla/
END:VEVENT
BEGIN:VEVENT
DTSTART;TZID=Europe/Berlin:20240224T080000
DTEND;TZID=Europe/Berlin:20240224T170000
DTSTAMP:20260424T204224
CREATED:20231211T073523Z
LAST-MODIFIED:20231211T073523Z
UID:2234-1708761600-1708794000@csu-moosburg.de
SUMMARY:Modenschau 50 Jahre vhs
DESCRIPTION:
URL:https://csu-moosburg.de/kalender/modenschau-50-jahre-vhs/
END:VEVENT
BEGIN:VEVENT
DTSTART;TZID=Europe/Berlin:20240227T080000
DTEND;TZID=Europe/Berlin:20240228T170000
DTSTAMP:20260424T204224
CREATED:20231211T073557Z
LAST-MODIFIED:20231211T073704Z
UID:2236-1709020800-1709139600@csu-moosburg.de
SUMMARY:Blutspende
DESCRIPTION:
URL:https://csu-moosburg.de/kalender/blutspende/
END:VEVENT
END:VCALENDAR