BEGIN:VCALENDAR
VERSION:2.0
PRODID:-//CSU Moosburg - ECPv6.15.20//NONSGML v1.0//EN
CALSCALE:GREGORIAN
METHOD:PUBLISH
X-ORIGINAL-URL:https://csu-moosburg.de
X-WR-CALDESC:Veranstaltungen für CSU Moosburg
REFRESH-INTERVAL;VALUE=DURATION:PT1H
X-Robots-Tag:noindex
X-PUBLISHED-TTL:PT1H
BEGIN:VTIMEZONE
TZID:Europe/Berlin
BEGIN:DAYLIGHT
TZOFFSETFROM:+0100
TZOFFSETTO:+0200
TZNAME:CEST
DTSTART:20230326T010000
END:DAYLIGHT
BEGIN:STANDARD
TZOFFSETFROM:+0200
TZOFFSETTO:+0100
TZNAME:CET
DTSTART:20231029T010000
END:STANDARD
BEGIN:DAYLIGHT
TZOFFSETFROM:+0100
TZOFFSETTO:+0200
TZNAME:CEST
DTSTART:20240331T010000
END:DAYLIGHT
BEGIN:STANDARD
TZOFFSETFROM:+0200
TZOFFSETTO:+0100
TZNAME:CET
DTSTART:20241027T010000
END:STANDARD
BEGIN:DAYLIGHT
TZOFFSETFROM:+0100
TZOFFSETTO:+0200
TZNAME:CEST
DTSTART:20250330T010000
END:DAYLIGHT
BEGIN:STANDARD
TZOFFSETFROM:+0200
TZOFFSETTO:+0100
TZNAME:CET
DTSTART:20251026T010000
END:STANDARD
END:VTIMEZONE
BEGIN:VEVENT
DTSTART;TZID=Europe/Berlin:20241011T080000
DTEND;TZID=Europe/Berlin:20241013T170000
DTSTAMP:20260425T210636
CREATED:20231211T081909Z
LAST-MODIFIED:20231211T081909Z
UID:2300-1728633600-1728838800@csu-moosburg.de
SUMMARY:Altstadtförderer Kunstwochenende
DESCRIPTION:
URL:https://csu-moosburg.de/kalender/altstadtfoerderer-kunstwochenende/
END:VEVENT
BEGIN:VEVENT
DTSTART;TZID=Europe/Berlin:20241012T080000
DTEND;TZID=Europe/Berlin:20241012T170000
DTSTAMP:20260425T210636
CREATED:20231211T082125Z
LAST-MODIFIED:20231211T082125Z
UID:2302-1728720000-1728752400@csu-moosburg.de
SUMMARY:Ü 30-Party
DESCRIPTION:
URL:https://csu-moosburg.de/kalender/ue-30-party/
END:VEVENT
END:VCALENDAR